BEGIN:VCALENDAR
VERSION:2.0
PRODID:-//District 23 AA - ECPv6.15.20//NONSGML v1.0//EN
CALSCALE:GREGORIAN
METHOD:PUBLISH
X-WR-CALNAME:District 23 AA
X-ORIGINAL-URL:https://aad23.org
X-WR-CALDESC:Events for District 23 AA
REFRESH-INTERVAL;VALUE=DURATION:PT1H
X-Robots-Tag:noindex
X-PUBLISHED-TTL:PT1H
BEGIN:VTIMEZONE
TZID:America/New_York
BEGIN:DAYLIGHT
TZOFFSETFROM:-0500
TZOFFSETTO:-0400
TZNAME:EDT
DTSTART:20240310T070000
END:DAYLIGHT
BEGIN:STANDARD
TZOFFSETFROM:-0400
TZOFFSETTO:-0500
TZNAME:EST
DTSTART:20241103T060000
END:STANDARD
BEGIN:DAYLIGHT
TZOFFSETFROM:-0500
TZOFFSETTO:-0400
TZNAME:EDT
DTSTART:20250309T070000
END:DAYLIGHT
BEGIN:STANDARD
TZOFFSETFROM:-0400
TZOFFSETTO:-0500
TZNAME:EST
DTSTART:20251102T060000
END:STANDARD
BEGIN:DAYLIGHT
TZOFFSETFROM:-0500
TZOFFSETTO:-0400
TZNAME:EDT
DTSTART:20260308T070000
END:DAYLIGHT
BEGIN:STANDARD
TZOFFSETFROM:-0400
TZOFFSETTO:-0500
TZNAME:EST
DTSTART:20261101T060000
END:STANDARD
END:VTIMEZONE
BEGIN:VEVENT
DTSTART;TZID=America/New_York:20250920T120000
DTEND;TZID=America/New_York:20250920T160000
DTSTAMP:20260423T062256
CREATED:20250901T235006Z
LAST-MODIFIED:20250901T235007Z
UID:2365-1758369600-1758384000@aad23.org
SUMMARY:EAM Pig Roast Camp Out 2025
DESCRIPTION:2 Speaker Meeting at 3pmFood Fun FellowshipPulled Pork\, Hot Dogs\, Sausages and Burgers \n\n\n\nFree Camping Available Friday 9/19 to Sunday 9/21
URL:https://aad23.org/aa-event/eam-pig-roast-camp-out-2025
LOCATION:GREEN LANE PARK AT THE PAVILON\, 2144 Snyder Rd\, Green Lane\, Pennsylvania\, 18054
ATTACH;FMTTYPE=image/jpeg:https://aad23.org/aa-tradition/uploads/EAM-PigRoast-2025.jpg
END:VEVENT
BEGIN:VEVENT
DTSTART;TZID=America/New_York:20250925T183000
DTEND;TZID=America/New_York:20250925T203000
DTSTAMP:20260423T062256
CREATED:20250901T011554Z
LAST-MODIFIED:20250901T011555Z
UID:2363-1758825000-1758832200@aad23.org
SUMMARY:AA For Dummies and Hatboro Big Book Anniversary
DESCRIPTION:Food\, Fun\, and Fellowship 6:30 to 7:30 PMSpeaker 7:30 to 8:30 PM
URL:https://aad23.org/aa-event/aa-for-dummies-and-hatboro-big-book-anniversary
LOCATION:Hatboro Baptist Church Annex\, 34 N. York Rd\, Hatboro\, Pennsylvania\, 19040
ATTACH;FMTTYPE=image/jpeg:https://aad23.org/aa-tradition/uploads/Hatboro-Big-Book-Anniversary.jpg
END:VEVENT
BEGIN:VEVENT
DTSTART;TZID=America/New_York:20250927T170000
DTEND;TZID=America/New_York:20250927T200000
DTSTAMP:20260423T062256
CREATED:20250908T011706Z
LAST-MODIFIED:20250908T011708Z
UID:2368-1758992400-1759003200@aad23.org
SUMMARY:Sobriety Group Anniversary
DESCRIPTION:FOOD\, FUN\, AND FELLOWSHIP 5PMTWO SPEAKERS 6PM
URL:https://aad23.org/aa-event/sobriety-group-anniversary
LOCATION:Good Shepard Lutheran Church\, 877 Street Rd\, Southampton\, Pa\, 18966
ATTACH;FMTTYPE=image/jpeg:https://aad23.org/aa-tradition/uploads/Sobriety-Anniversary.jpg
END:VEVENT
BEGIN:VEVENT
DTSTART;TZID=America/New_York:20250928T090000
DTEND;TZID=America/New_York:20250928T120000
DTSTAMP:20260423T062256
CREATED:20250630T023957Z
LAST-MODIFIED:20250814T220326Z
UID:2330-1759050000-1759060800@aad23.org
SUMMARY:Long Timer Breakfast 2025
DESCRIPTION:Join us for this amazing open meeting to hear Four Speakers with over 30 years of sobriety\, sharing their experience\, strength and hope! \n\n\n\nBreakfast Buffet: \n\n\n\n\n\n\n	\n		\n		\n		·        \n		Fresh Fruit Display \n		\n		·        \n		Scrambled Eggs \n		\n		·        \n		Bacon \n		\n		·        \n		Sausage \n		\n		·        \n		Home Fries \n		\n		·        \n		Assorted Danish and Mini Muffins \n		\n		·        \n		French Toast w/ syrup and strawberries \n		\n		\n		\n		·        \n		Assorted Bagels w/side of butter\, cream \n		cheese\, jelly \n		\n		·        \n		Beverage Station: Iced Tea\, Lemonade\, OJ\, \n		Cranberry \n		\n		·        \n		Water set on Tables and Coffee Service \n		\n		·        \n		Plus a 50/50 raffle
URL:https://aad23.org/aa-event/long-timer-breakfast-2025
LOCATION:Old York Road Country Club\, 801 Tennis Ave\, Ambler\, Pennsylvania\, 19002
ATTACH;FMTTYPE=image/jpeg:https://aad23.org/aa-tradition/uploads/Long-Timers-2025.jpg
END:VEVENT
END:VCALENDAR