BEGIN:VCALENDAR
VERSION:2.0
PRODID:-//District 23 AA - ECPv6.15.20//NONSGML v1.0//EN
CALSCALE:GREGORIAN
METHOD:PUBLISH
X-WR-CALNAME:District 23 AA
X-ORIGINAL-URL:https://aad23.org
X-WR-CALDESC:Events for District 23 AA
REFRESH-INTERVAL;VALUE=DURATION:PT1H
X-Robots-Tag:noindex
X-PUBLISHED-TTL:PT1H
BEGIN:VTIMEZONE
TZID:America/New_York
BEGIN:DAYLIGHT
TZOFFSETFROM:-0500
TZOFFSETTO:-0400
TZNAME:EDT
DTSTART:20240310T070000
END:DAYLIGHT
BEGIN:STANDARD
TZOFFSETFROM:-0400
TZOFFSETTO:-0500
TZNAME:EST
DTSTART:20241103T060000
END:STANDARD
BEGIN:DAYLIGHT
TZOFFSETFROM:-0500
TZOFFSETTO:-0400
TZNAME:EDT
DTSTART:20250309T070000
END:DAYLIGHT
BEGIN:STANDARD
TZOFFSETFROM:-0400
TZOFFSETTO:-0500
TZNAME:EST
DTSTART:20251102T060000
END:STANDARD
BEGIN:DAYLIGHT
TZOFFSETFROM:-0500
TZOFFSETTO:-0400
TZNAME:EDT
DTSTART:20260308T070000
END:DAYLIGHT
BEGIN:STANDARD
TZOFFSETFROM:-0400
TZOFFSETTO:-0500
TZNAME:EST
DTSTART:20261101T060000
END:STANDARD
END:VTIMEZONE
BEGIN:VEVENT
DTSTART;TZID=America/New_York:20250607T080000
DTEND;TZID=America/New_York:20250607T150000
DTSTAMP:20260421T100352
CREATED:20250506T031953Z
LAST-MODIFIED:20250506T031954Z
UID:2314-1749283200-1749308400@aad23.org
SUMMARY:Area 59 Mini Assembly II - Delegate Report
DESCRIPTION:The doors open at 8am\, Registration begins at 9 AMWhy should an AA member attend a Mini Assembly’s?● Hear our Area 59 Delegate report back to us on what happened at the General Service Conference!● Have an opportunity to meet our trusted servants and ask questions● Get to know the people that will be eligible to stand for Area Officer positions at our next EPGSA election in November 2026● Learn about various aspects of General Service through informative presentations\, Archives and subcommittee displays● Enjoy complimentary lunch and camaraderie with other service-minded members of the fellowship
URL:https://aad23.org/aa-event/area-59-mini-assembly-ii-delegate-report
LOCATION:First United Church of Christ\, 110 Route 61 South\, Schuylkill Haven\, Pennsylvania\, 17972
ATTACH;FMTTYPE=image/jpeg:https://aad23.org/aa-tradition/uploads/Mini-Assembly-2.jpg
END:VEVENT
BEGIN:VEVENT
DTSTART;TZID=America/New_York:20250622T120000
DTEND;TZID=America/New_York:20250622T170000
DTSTAMP:20260421T100352
CREATED:20250506T025957Z
LAST-MODIFIED:20250506T025959Z
UID:2309-1750593600-1750611600@aad23.org
SUMMARY:Intergroup Annual Unity Picnic
DESCRIPTION:(Rain or Shine) \n\n\n\nFood\, Fun and Fellowship.Kid and Pet friendly.Hamburgers\, Hot Dogs\, Soda\, Water and Coffee provided free of charge.Please bring a covered side dish for all to share.
URL:https://aad23.org/aa-event/intergroup-annual-unity-picnic
LOCATION:Neshaminy State Park\, Pavillion No. 1\, 3401 State Road (@Dunks Ferry Road)\, Bensalem\, Pennsylvania\, 19020
ATTACH;FMTTYPE=image/jpeg:https://aad23.org/aa-tradition/uploads/sepia-unity-picnic-25.jpg
END:VEVENT
BEGIN:VEVENT
DTSTART;TZID=America/New_York:20250629T120000
DTEND;TZID=America/New_York:20250629T153000
DTSTAMP:20260421T100352
CREATED:20250412T004045Z
LAST-MODIFIED:20250412T004046Z
UID:2285-1751198400-1751211000@aad23.org
SUMMARY:3rd Annual Bucks Unity Event
DESCRIPTION:Please join the discussion of how we fulfill our primary purpose and work together to better carry the message to the still suffering alcoholic.Districts 21\, 23\, 47\, 51\, SEPIA Bucks County Zone and The Liberty Bid for EACYPAA come together for a day of food\, fun\, fellowship\, learning\, and growth.
URL:https://aad23.org/aa-event/3rd-annual-bucks-unity-event
LOCATION:St. Paul’s Episcopal Church\, 89 Pinewood Dr\, Levittown\, Pennsylvania\, 19054
ATTACH;FMTTYPE=image/jpeg:https://aad23.org/aa-tradition/uploads/Bucks-Unity-2025.jpg
END:VEVENT
END:VCALENDAR