BEGIN:VCALENDAR
VERSION:2.0
PRODID:-//District 23 AA - ECPv6.15.20//NONSGML v1.0//EN
CALSCALE:GREGORIAN
METHOD:PUBLISH
X-WR-CALNAME:District 23 AA
X-ORIGINAL-URL:https://aad23.org
X-WR-CALDESC:Events for District 23 AA
REFRESH-INTERVAL;VALUE=DURATION:PT1H
X-Robots-Tag:noindex
X-PUBLISHED-TTL:PT1H
BEGIN:VTIMEZONE
TZID:America/New_York
BEGIN:DAYLIGHT
TZOFFSETFROM:-0500
TZOFFSETTO:-0400
TZNAME:EDT
DTSTART:20240310T070000
END:DAYLIGHT
BEGIN:STANDARD
TZOFFSETFROM:-0400
TZOFFSETTO:-0500
TZNAME:EST
DTSTART:20241103T060000
END:STANDARD
BEGIN:DAYLIGHT
TZOFFSETFROM:-0500
TZOFFSETTO:-0400
TZNAME:EDT
DTSTART:20250309T070000
END:DAYLIGHT
BEGIN:STANDARD
TZOFFSETFROM:-0400
TZOFFSETTO:-0500
TZNAME:EST
DTSTART:20251102T060000
END:STANDARD
BEGIN:DAYLIGHT
TZOFFSETFROM:-0500
TZOFFSETTO:-0400
TZNAME:EDT
DTSTART:20260308T070000
END:DAYLIGHT
BEGIN:STANDARD
TZOFFSETFROM:-0400
TZOFFSETTO:-0500
TZNAME:EST
DTSTART:20261101T060000
END:STANDARD
END:VTIMEZONE
BEGIN:VEVENT
DTSTART;TZID=America/New_York:20250104T110000
DTEND;TZID=America/New_York:20250104T130000
DTSTAMP:20260421T054043
CREATED:20241229T132229Z
LAST-MODIFIED:20241229T132230Z
UID:2186-1735988400-1735995600@aad23.org
SUMMARY:Planning Meeting Share-A-Day 2025
DESCRIPTION:Share-A-Day is an opportunity to share ideas about how to carry the message to the alcoholic who still suffers. In Eastern PA\, a Share-A-Day typically refers to a daylong event sponsored below the group level by (Area 59 and the South Eastern Pennsylvania Intergroup S.E.P.I.A) centered around a selected topics affecting our groups.
URL:https://aad23.org/aa-event/planning-meeting-share-a-day-2025
LOCATION:Zoom\, United States
ATTACH;FMTTYPE=image/jpeg:https://aad23.org/aa-tradition/uploads/share-a-day-2025.jpg
END:VEVENT
BEGIN:VEVENT
DTSTART;TZID=America/New_York:20250114T190000
DTEND;TZID=America/New_York:20250114T210000
DTSTAMP:20260421T054043
CREATED:20241220T212657Z
LAST-MODIFIED:20241220T212701Z
UID:2169-1736881200-1736888400@aad23.org
SUMMARY:North Wales Group 78th Anniversary
DESCRIPTION:Come help us celebrate the oldest group in Area 59 District 23 originally known as the “Farmers Group”. The North Wales Group invites you to join us for Food Fun Fellowship 7:00 PM followed by Anniversary Speaker Meeting.
URL:https://aad23.org/aa-event/north-wales-group-78th-anniversary
LOCATION:Church of the Messiah\, 1001 Dekalb Pike\, Lower Swynedd\, Pa\, 19002
ATTACH;FMTTYPE=image/jpeg:https://aad23.org/aa-tradition/uploads/North-Wales-78.jpg
END:VEVENT
END:VCALENDAR