BEGIN:VCALENDAR
VERSION:2.0
PRODID:-//District 23 AA - ECPv6.15.20//NONSGML v1.0//EN
CALSCALE:GREGORIAN
METHOD:PUBLISH
X-ORIGINAL-URL:https://aad23.org
X-WR-CALDESC:Events for District 23 AA
REFRESH-INTERVAL;VALUE=DURATION:PT1H
X-Robots-Tag:noindex
X-PUBLISHED-TTL:PT1H
BEGIN:VTIMEZONE
TZID:America/New_York
BEGIN:DAYLIGHT
TZOFFSETFROM:-0500
TZOFFSETTO:-0400
TZNAME:EDT
DTSTART:20230312T070000
END:DAYLIGHT
BEGIN:STANDARD
TZOFFSETFROM:-0400
TZOFFSETTO:-0500
TZNAME:EST
DTSTART:20231105T060000
END:STANDARD
BEGIN:DAYLIGHT
TZOFFSETFROM:-0500
TZOFFSETTO:-0400
TZNAME:EDT
DTSTART:20240310T070000
END:DAYLIGHT
BEGIN:STANDARD
TZOFFSETFROM:-0400
TZOFFSETTO:-0500
TZNAME:EST
DTSTART:20241103T060000
END:STANDARD
BEGIN:DAYLIGHT
TZOFFSETFROM:-0500
TZOFFSETTO:-0400
TZNAME:EDT
DTSTART:20250309T070000
END:DAYLIGHT
BEGIN:STANDARD
TZOFFSETFROM:-0400
TZOFFSETTO:-0500
TZNAME:EST
DTSTART:20251102T060000
END:STANDARD
END:VTIMEZONE
BEGIN:VEVENT
DTSTART;TZID=America/New_York:20241108T150000
DTEND;TZID=America/New_York:20241110T120000
DTSTAMP:20260421T082222
CREATED:20240809T133421Z
LAST-MODIFIED:20240809T133422Z
UID:2098-1731078000-1731240000@aad23.org
SUMMARY:67th EPGSA Service Convention
DESCRIPTION:All GSRs\, ADCMs\, DCMs\, Area Officers\, Past Delegates and all interested A.A. members are welcome to attend. Your Home Group should financially support it’s GSR in attending the our annual Convention/Assembly. In even-numbered years we have elections for the Delegate and Area Officers. In odd-numbered years we gather for an Assembly where the Area Officers and Area Committees report on their work to the Assembly. This is the only time each year when we gather\, speak and vote as an Area. The Delegate may take this opportunity to seek guidance from the Assembly on matters concerning the Area or the Conference. \n\n\n\nONLINE FORMS: \n\n\n\n\nOnline Convention Registration Form\n\n\n\nOnline Hotel Reservations\n\n\n\nOnline Volunteer Form\n\n\n\nOnline Hospitality Contributions\n\n\n\n\nMAIL-IN FORMS: \n\n\n\n\nMail-In Registration (EN)\n\n\n\nRegistro Por Correo (ES)
URL:https://aad23.org/aa-event/67th-epgsa-convention
LOCATION:Wyndham Lancaster Resort and Convention Center\, 2300 Lincoln Highway East\, Lancaster\, Pa\, 17602
ATTACH;FMTTYPE=image/jpeg:https://aad23.org/aa-tradition/uploads/67th-epgsa.jpg
END:VEVENT
END:VCALENDAR