BEGIN:VCALENDAR
VERSION:2.0
PRODID:-//District 23 AA - ECPv6.15.20//NONSGML v1.0//EN
CALSCALE:GREGORIAN
METHOD:PUBLISH
X-WR-CALNAME:District 23 AA
X-ORIGINAL-URL:https://aad23.org
X-WR-CALDESC:Events for District 23 AA
REFRESH-INTERVAL;VALUE=DURATION:PT1H
X-Robots-Tag:noindex
X-PUBLISHED-TTL:PT1H
BEGIN:VTIMEZONE
TZID:America/New_York
BEGIN:DAYLIGHT
TZOFFSETFROM:-0500
TZOFFSETTO:-0400
TZNAME:EDT
DTSTART:20230312T070000
END:DAYLIGHT
BEGIN:STANDARD
TZOFFSETFROM:-0400
TZOFFSETTO:-0500
TZNAME:EST
DTSTART:20231105T060000
END:STANDARD
BEGIN:DAYLIGHT
TZOFFSETFROM:-0500
TZOFFSETTO:-0400
TZNAME:EDT
DTSTART:20240310T070000
END:DAYLIGHT
BEGIN:STANDARD
TZOFFSETFROM:-0400
TZOFFSETTO:-0500
TZNAME:EST
DTSTART:20241103T060000
END:STANDARD
BEGIN:DAYLIGHT
TZOFFSETFROM:-0500
TZOFFSETTO:-0400
TZNAME:EDT
DTSTART:20250309T070000
END:DAYLIGHT
BEGIN:STANDARD
TZOFFSETFROM:-0400
TZOFFSETTO:-0500
TZNAME:EST
DTSTART:20251102T060000
END:STANDARD
BEGIN:DAYLIGHT
TZOFFSETFROM:-0500
TZOFFSETTO:-0400
TZNAME:EDT
DTSTART:20260308T070000
END:DAYLIGHT
BEGIN:STANDARD
TZOFFSETFROM:-0400
TZOFFSETTO:-0500
TZNAME:EST
DTSTART:20261101T060000
END:STANDARD
END:VTIMEZONE
BEGIN:VEVENT
DTSTART;TZID=America/New_York:20250321T090000
DTEND;TZID=America/New_York:20250321T110000
DTSTAMP:20260421T204121
CREATED:20250219T150827Z
LAST-MODIFIED:20250219T150828Z
UID:2230-1742547600-1742554800@aad23.org
SUMMARY:Alive and Kicking Anniversary Breakfast
DESCRIPTION:Join The Members from Alive & Kicking at its First Annual Anniversary Breakfast
URL:https://aad23.org/aa-event/alive-and-kicking-anniversary
LOCATION:Heidelberg Church\, 1101 Cowpath Rd\, Hatfield\, Pennsylvania\, 19440
ATTACH;FMTTYPE=image/jpeg:https://aad23.org/aa-tradition/uploads/alive-kicking-anniversary.jpg
END:VEVENT
BEGIN:VEVENT
DTSTART;TZID=America/New_York:20250307T120000
DTEND;TZID=America/New_York:20250309T150000
DTSTAMP:20260421T204121
CREATED:20241229T135428Z
LAST-MODIFIED:20241229T135721Z
UID:2189-1741348800-1741532400@aad23.org
SUMMARY:SEPIA 58th Annual Round-Up
DESCRIPTION:The SEPIA Round Up an annual event is the biggest fundraiser for the South Eastern Pennsylvania Intergroup Association. S.E.P.I.A is an organization that serves the groups of the 5-county southeastern pa area making 12 step commitments available and educating the community about AA and alcoholism. \n\n\n\nMarathon Meetings\, A.A./Al-Anon Speakers\, Ice Cream Socials\, Long-Timers Panel\, Friday & Saturday Night Dances\, Beach Meetings\, Intergroup Rep Meeting\, Free Coffee \n\n\n\nRegistration Information $40 on or before March 1\, 2025. REGISTER ON-LINE HERE \n\n\n\n$45 Standard Registration at the door. \n\n\n\nHotel Registration MUST BE MADE DIRECTLY with the HOTELCall the Grand Hotel at 800-257-8550 or 609-884-5611Must state discount rate group code: 677426Single or Double Rooms: $204 per night; Townhouses: $333 per night.Accommodations vary for single king suites.Rooms are first come\, first serve. Discounts only until February 6.
URL:https://aad23.org/aa-event/sepia-58th-round-up
LOCATION:Grand Hotel of Cape May\, 1045 Beach Avenue\, Cape May\, New Jersey\, 08204\, United States
ATTACH;FMTTYPE=image/jpeg:https://aad23.org/aa-tradition/uploads/Round-Up-2025.jpg
END:VEVENT
BEGIN:VEVENT
DTSTART;TZID=America/New_York:20250306T190000
DTEND;TZID=America/New_York:20250306T203000
DTSTAMP:20260421T204121
CREATED:20250202T023617Z
LAST-MODIFIED:20250202T023618Z
UID:2216-1741287600-1741293000@aad23.org
SUMMARY:Sisters In Sobriety 34th Anniversary
DESCRIPTION:Sisters in Sobriety Group of New Britain is celebrating their 34th anniversary with food and fellowship beginning at 7 pm \n\n\n\nPlease Bring a Covered Dish \n\n\n\nThis is an Open meeting All are welcome
URL:https://aad23.org/aa-event/sis-34th-anniversary
LOCATION:Lenape Valley Church\, 321 W Butler Pk\, New Britain\, Pennsylvania\, 18901
ATTACH;FMTTYPE=image/jpeg:https://aad23.org/aa-tradition/uploads/SIS-NewBritain-34.jpg
END:VEVENT
BEGIN:VEVENT
DTSTART;TZID=America/New_York:20250225T181500
DTEND;TZID=America/New_York:20250225T200000
DTSTAMP:20260421T204121
CREATED:20250208T232242Z
LAST-MODIFIED:20250208T232245Z
UID:2224-1740507300-1740513600@aad23.org
SUMMARY:Women In Sobriety 23rd Anniversary
DESCRIPTION:Celebrating 23 years with speakers food and fellowship \n\n\n\nAll Are Welcome To Attend
URL:https://aad23.org/aa-event/women-in-sobriety-23rd-anniversary
LOCATION:Salem Church\, 186 E Court St\, Doylestown\, Pennsylvania\, 18901
ATTACH;FMTTYPE=image/jpeg:https://aad23.org/aa-tradition/uploads/Women-In-Sobriety-23-featur.jpg
END:VEVENT
BEGIN:VEVENT
DTSTART;TZID=America/New_York:20250208T093000
DTEND;TZID=America/New_York:20250208T130000
DTSTAMP:20260421T204121
CREATED:20241229T205103Z
LAST-MODIFIED:20241229T205104Z
UID:2196-1739007000-1739019600@aad23.org
SUMMARY:37th Share A Day
DESCRIPTION:Share-A-Day is an opportunity to share ideas about how to carry the message to the alcoholic who still suffers. In Eastern PA\, a Our Share-A-Day refers to an event sponsored by Area 59 and the South Eastern Pennsylvania Intergroup S.E.P.I.A centered around a selected topics affecting our groups.
URL:https://aad23.org/aa-event/37th-share-a-day
LOCATION:Retreat to St. Thomas Church\, 7020 Camp Hill Rd\, Fort Washington\, Pennsylvania\, 19034
ATTACH;FMTTYPE=image/jpeg:https://aad23.org/aa-tradition/uploads/37th-share-a-day.jpg
END:VEVENT
BEGIN:VEVENT
DTSTART;TZID=America/New_York:20250114T190000
DTEND;TZID=America/New_York:20250114T210000
DTSTAMP:20260421T204121
CREATED:20241220T212657Z
LAST-MODIFIED:20241220T212701Z
UID:2169-1736881200-1736888400@aad23.org
SUMMARY:North Wales Group 78th Anniversary
DESCRIPTION:Come help us celebrate the oldest group in Area 59 District 23 originally known as the “Farmers Group”. The North Wales Group invites you to join us for Food Fun Fellowship 7:00 PM followed by Anniversary Speaker Meeting.
URL:https://aad23.org/aa-event/north-wales-group-78th-anniversary
LOCATION:Church of the Messiah\, 1001 Dekalb Pike\, Lower Swynedd\, Pa\, 19002
ATTACH;FMTTYPE=image/jpeg:https://aad23.org/aa-tradition/uploads/North-Wales-78.jpg
END:VEVENT
BEGIN:VEVENT
DTSTART;TZID=America/New_York:20250104T110000
DTEND;TZID=America/New_York:20250104T130000
DTSTAMP:20260421T204121
CREATED:20241229T132229Z
LAST-MODIFIED:20241229T132230Z
UID:2186-1735988400-1735995600@aad23.org
SUMMARY:Planning Meeting Share-A-Day 2025
DESCRIPTION:Share-A-Day is an opportunity to share ideas about how to carry the message to the alcoholic who still suffers. In Eastern PA\, a Share-A-Day typically refers to a daylong event sponsored below the group level by (Area 59 and the South Eastern Pennsylvania Intergroup S.E.P.I.A) centered around a selected topics affecting our groups.
URL:https://aad23.org/aa-event/planning-meeting-share-a-day-2025
LOCATION:Zoom\, United States
ATTACH;FMTTYPE=image/jpeg:https://aad23.org/aa-tradition/uploads/share-a-day-2025.jpg
END:VEVENT
BEGIN:VEVENT
DTSTART;TZID=America/New_York:20241108T150000
DTEND;TZID=America/New_York:20241110T120000
DTSTAMP:20260421T204121
CREATED:20240809T133421Z
LAST-MODIFIED:20240809T133422Z
UID:2098-1731078000-1731240000@aad23.org
SUMMARY:67th EPGSA Service Convention
DESCRIPTION:All GSRs\, ADCMs\, DCMs\, Area Officers\, Past Delegates and all interested A.A. members are welcome to attend. Your Home Group should financially support it’s GSR in attending the our annual Convention/Assembly. In even-numbered years we have elections for the Delegate and Area Officers. In odd-numbered years we gather for an Assembly where the Area Officers and Area Committees report on their work to the Assembly. This is the only time each year when we gather\, speak and vote as an Area. The Delegate may take this opportunity to seek guidance from the Assembly on matters concerning the Area or the Conference. \n\n\n\nONLINE FORMS: \n\n\n\n\nOnline Convention Registration Form\n\n\n\nOnline Hotel Reservations\n\n\n\nOnline Volunteer Form\n\n\n\nOnline Hospitality Contributions\n\n\n\n\nMAIL-IN FORMS: \n\n\n\n\nMail-In Registration (EN)\n\n\n\nRegistro Por Correo (ES)
URL:https://aad23.org/aa-event/67th-epgsa-convention
LOCATION:Wyndham Lancaster Resort and Convention Center\, 2300 Lincoln Highway East\, Lancaster\, Pa\, 17602
ATTACH;FMTTYPE=image/jpeg:https://aad23.org/aa-tradition/uploads/67th-epgsa.jpg
END:VEVENT
BEGIN:VEVENT
DTSTART;TZID=America/New_York:20241020T080000
DTEND;TZID=America/New_York:20241020T120000
DTSTAMP:20260421T204121
CREATED:20240902T141925Z
LAST-MODIFIED:20241001T012041Z
UID:2103-1729411200-1729425600@aad23.org
SUMMARY:Long Timer Breakfast 2024
DESCRIPTION:Join us to hear Four Speakers with over 30 years of sobriety\, sharing their experience strength and hope! \n\n\n\nBreakfast Buffet\, Coffee Service 50/50 Raffle
URL:https://aad23.org/aa-event/long-timer-breakfast-2024
LOCATION:Old York Road Country Club\, 801 Tennis Ave\, Ambler\, Pennsylvania\, 19002
ATTACH;FMTTYPE=image/jpeg:https://aad23.org/aa-tradition/uploads/long-timmers-24.jpg
END:VEVENT
BEGIN:VEVENT
DTSTART;TZID=America/New_York:20241006T183000
DTEND;TZID=America/New_York:20241006T203000
DTSTAMP:20260421T204121
CREATED:20240922T201317Z
LAST-MODIFIED:20240922T201318Z
UID:2131-1728239400-1728246600@aad23.org
SUMMARY:NAS Willow Grove 46th Anniversary
DESCRIPTION:Please join us for FOOD\, FUN andFELLOWSHIP and celebrating out 46th year!6:30 PM – Celebration7:30 PM – Meeting (2 Speakers)
URL:https://aad23.org/aa-event/nas-willow-grove-46th-anniversary
LOCATION:Ivyland New Church\, 851 W Bristol Rd\, Warminster\, Pennsylvania\, 18974
ATTACH;FMTTYPE=image/jpeg:https://aad23.org/aa-tradition/uploads/nas-willowgrove-46.jpg
END:VEVENT
BEGIN:VEVENT
DTSTART;TZID=America/New_York:20240928T170000
DTEND;TZID=America/New_York:20240928T190000
DTSTAMP:20260421T204121
CREATED:20240915T131052Z
LAST-MODIFIED:20240915T131053Z
UID:2119-1727542800-1727550000@aad23.org
SUMMARY:Sobriety Group 47th Anniversary
DESCRIPTION:5pm food\, fun\, fellowship 6pm speaker meeting \n\n\n\nPotluck: Bring something to share
URL:https://aad23.org/aa-event/sobriety-group-47th-anniversary
LOCATION:Good Shepard Lutheran Church\, 877 Street Rd\, Southampton\, Pa\, 18966
ATTACH;FMTTYPE=image/jpeg:https://aad23.org/aa-tradition/uploads/Sobriety-47th.jpg
END:VEVENT
BEGIN:VEVENT
DTSTART;TZID=America/New_York:20240928T120000
DTEND;TZID=America/New_York:20240928T160000
DTSTAMP:20260421T204121
CREATED:20240915T125930Z
LAST-MODIFIED:20240915T125931Z
UID:2114-1727524800-1727539200@aad23.org
SUMMARY:EAM Annual Pig Roast 2024
DESCRIPTION:Camping available Friday 9/27 to Sunday 9/29 \n\n\n\nBring a side dish or deserts \n\n\n\n2 Speaker meeting at 3:00 PM
URL:https://aad23.org/aa-event/eam-annual-pig-roast-2024
LOCATION:GREEN LANE PARK AT THE PAVILON\, 2144 Snyder Rd\, Green Lane\, Pennsylvania\, 18054
ATTACH;FMTTYPE=image/jpeg:https://aad23.org/aa-tradition/uploads/EAM-Pig-Roast-24.jpg
END:VEVENT
BEGIN:VEVENT
DTSTART;TZID=America/New_York:20240926T063000
DTEND;TZID=America/New_York:20240926T203000
DTSTAMP:20260421T204121
CREATED:20240915T131926Z
LAST-MODIFIED:20240915T132846Z
UID:2123-1727332200-1727382600@aad23.org
SUMMARY:Anniversary: A.A. for Dummies & Hatboro Big Book
DESCRIPTION:Food\, Fun\, and Fellowship with Speaker
URL:https://aad23.org/aa-event/anniversary-a-a-for-dummies-hatboro-big-book
LOCATION:Hatboro Baptist Church Annex\, 34 N. York Rd\, Hatboro\, Pennsylvania\, 19040
ATTACH;FMTTYPE=image/jpeg:https://aad23.org/aa-tradition/uploads/Hatboro-Big-Book-Anniversary.jpg
END:VEVENT
BEGIN:VEVENT
DTSTART;TZID=America/New_York:20240913T150000
DTEND;TZID=America/New_York:20240915T140000
DTSTAMP:20260421T204121
CREATED:20240730T022418Z
LAST-MODIFIED:20240730T022435Z
UID:2090-1726239600-1726408800@aad23.org
SUMMARY:Buckypaa Annual Campout 2024
DESCRIPTION:Come camping with Buckypaa and Liberty-Bid for EASCYPAA as they co-host Buckypaa’s Annual Campout! Lots of fellowship and activities. Daily meetings and speakers each night! Pre-register to save! $45/weekend $20/Day (Prices go up after Midnight\, September 6th) food included in camp fee. Children under 5 are free. Camp-out happens rain or shine~NO REFUNDS
URL:https://aad23.org/aa-event/buckypaa-annual-campout-2024
LOCATION:Lake Towhee Park\, 800 Old Bethlehem Road\, Quakertown\, Pennsylvania\, 18951
ATTACH;FMTTYPE=image/jpeg:https://aad23.org/aa-tradition/uploads/buckypaa-campout-24.jpg
END:VEVENT
BEGIN:VEVENT
DTSTART;TZID=America/New_York:20240908T090000
DTEND;TZID=America/New_York:20240908T160000
DTSTAMP:20260421T204121
CREATED:20240704T163504Z
LAST-MODIFIED:20240704T163513Z
UID:2069-1725786000-1725811200@aad23.org
SUMMARY:4th Quarterly Area Meeting 2024
DESCRIPTION:This is an opportunity for our District members to see the workings of our Area 59 Panel 73 and to meet the members involved in Eastern Pa. It will be held at the Neshaminy Mall very close by. Lunch will be provided. \n\n\n\nPlease enter through the main mall doors\, and you will see signs directing you to the meeting room. Doors open 8 AM\, meeting starts at 11 AM.
URL:https://aad23.org/aa-event/4th-quarterly-area-meeting-2024
LOCATION:Neshaminy Mall\, 707 Neshaminy Mall\, Bensalem\, Pennsylvania\, 19020
ATTACH;FMTTYPE=image/jpeg:https://aad23.org/aa-tradition/uploads/Area-59-Quarterly.jpg
END:VEVENT
BEGIN:VEVENT
DTSTART;TZID=America/New_York:20240907T120000
DTEND;TZID=America/New_York:20240907T160000
DTSTAMP:20260421T204121
CREATED:20240730T021055Z
LAST-MODIFIED:20240730T021432Z
UID:2082-1725710400-1725724800@aad23.org
SUMMARY:District 51 Picnic Extravaganza
DESCRIPTION:Join District 51 as they host a picnic event! Food Fun and Fellowship! Speaker at 2:30 PM. Bring a chair\, bring a friend\, bring something to share. 50/50 Raffle and free giveaways.
URL:https://aad23.org/aa-event/district-51-picnic-extravaganza
LOCATION:Core Creek Park\, Pavillion 4\, 901 Bridgetown Pike\, Langhorn\, Pennsylvania\, 19047
ATTACH;FMTTYPE=image/jpeg:https://aad23.org/aa-tradition/uploads/d51-picnic-2024.jpg
END:VEVENT
BEGIN:VEVENT
DTSTART;TZID=America/New_York:20240824T120000
DTEND;TZID=America/New_York:20240824T150000
DTSTAMP:20260421T204121
CREATED:20240722T020257Z
LAST-MODIFIED:20240722T020350Z
UID:2074-1724500800-1724511600@aad23.org
SUMMARY:Working Together Increasing Trust Workshop
DESCRIPTION:Your participation in the General Service Conference begins here!Speakers and Round Table DiscussionRefreshments & Fellowship
URL:https://aad23.org/aa-event/district-23-workshop-8-24
LOCATION:Andrews Hall AA/Doylestown\, 125 Mechanics St\, Doylestown\, Pennsylvania\, 18901
ATTACH;FMTTYPE=image/jpeg:https://aad23.org/aa-tradition/uploads/d23-workshop-8-24.jpg
END:VEVENT
BEGIN:VEVENT
DTSTART;TZID=America/New_York:20240809T190000
DTEND;TZID=America/New_York:20240811T120000
DTSTAMP:20260421T204121
CREATED:20240704T162431Z
LAST-MODIFIED:20240704T162432Z
UID:2061-1723230000-1723377600@aad23.org
SUMMARY:Sunlight of The Spirit Conference 2024
DESCRIPTION:2024 Speaker & Event Line-upFriday Aug. 9th8:00pm Billy N. Palm Beach FL.Saturday Aug. 10th8:30am Open AA Meeting10:00am Jeremy F. Philadelphia\, PA11:30am Roundtable Speaker Q&A2:00pm Jill P. Shrewsbury\, PA Al-Anon4:00pm Shay W. Vienna\, WV7:50pm Sobriety Countdown8:00pm Bob D. Las Vegas\, NV9:30pm Ice Cream SocialSunday Aug. 11th9:30am Rich W. Vienna\, WV\n\n\n\nSee their website to purchase tickets\, reserve rooms and get information: Sunlightyork.org
URL:https://aad23.org/aa-event/sunlight-of-the-spirit-conference-2024
LOCATION:Wyndham Garden Hotel\, 2000 Loucks Roadway\, York\, Pennsylvania\, 17408
ATTACH;FMTTYPE=image/jpeg:https://aad23.org/aa-tradition/uploads/Sunlight-of-the-Spirit.jpg
END:VEVENT
BEGIN:VEVENT
DTSTART;TZID=America/New_York:20240803T120000
DTEND;TZID=America/New_York:20240803T150000
DTSTAMP:20260421T204121
CREATED:20240704T155631Z
LAST-MODIFIED:20240704T155632Z
UID:2055-1722686400-1722697200@aad23.org
SUMMARY:Multi District Workshop 30\, 64\, 66\, and 67
DESCRIPTION:Multi District Event hosted by District 30\, 64\, 66\, and 67. Join us as we cross district lines to meet with our AA neighbors and get to know our Area Officers. We will be having roundtable discussions and a third legacy performance. Food will be provided.
URL:https://aad23.org/aa-event/multi-district-workshop-30-64-66-and-67
LOCATION:Caernarvon Twp Building\, 3307 Main Street\, Morgantown\, Pennsylvania\, 19543
ATTACH;FMTTYPE=image/jpeg:https://aad23.org/aa-tradition/uploads/30-64-66-67-Workshop.jpg
END:VEVENT
BEGIN:VEVENT
DTSTART;TZID=America/New_York:20240707T180000
DTEND;TZID=America/New_York:20240707T220000
DTSTAMP:20260421T204121
CREATED:20240704T143312Z
LAST-MODIFIED:20240704T143320Z
UID:2046-1720375200-1720389600@aad23.org
SUMMARY:Girls Night Out Picnic! All are welcome
DESCRIPTION:Join the Girls Night Out group for a night of food\, fun and fellowship on Sunday\, July 7th\, beginning at 5:00 PM. Two Speaker meeting at 6:00 PM. Grilling too! Stay after the meeting at St. Andrew’s or walk to Lenape park for Fireworks at 9 PM. Bring your blankets\, chairs and YOUR FAMILY!
URL:https://aad23.org/aa-event/girls-night-out-picnic-all-are-welcome
LOCATION:St. Andrew’s Evangelical Lutheran Church\, 20 Dill Avenue\, Perkasie\, Pennsylvania\, 18944
ATTACH;FMTTYPE=image/png:https://aad23.org/aa-tradition/uploads/girls-night-out-picnic-f.png
END:VEVENT
BEGIN:VEVENT
DTSTART;TZID=America/New_York:20240706T100000
DTEND;TZID=America/New_York:20240706T150000
DTSTAMP:20260421T204121
CREATED:20240704T144827Z
LAST-MODIFIED:20240704T144828Z
UID:2049-1720260000-1720278000@aad23.org
SUMMARY:Norristown Group of AA Summer Picnic
DESCRIPTION:Lower Perkiomen Valley Park\, Pavilion 2Meeting @ 10:00 am – with food\, fellowship & fun to follow until the last burger is gone!!!
URL:https://aad23.org/aa-event/norristown-group-of-aa-summer-picnic
LOCATION:Lower Perkiomen Valley Park\, 101 New Mill Rd\, Oaks\, Pennsylvania\, 19456
ATTACH;FMTTYPE=image/jpeg:https://aad23.org/aa-tradition/uploads/Norristown-Picnic-24.jpg
END:VEVENT
BEGIN:VEVENT
DTSTART;TZID=America/New_York:20240630T120000
DTEND;TZID=America/New_York:20240630T150000
DTSTAMP:20260421T204121
CREATED:20240428T131812Z
LAST-MODIFIED:20240428T131813Z
UID:2022-1719748800-1719759600@aad23.org
SUMMARY:Bucks Co. AA Unity Event
DESCRIPTION:Our Second Bucks County Unity Event \n\n\n\nJoin Districts 21\, 23\, 47\, 51\, The Bucks County Zone of SEPIA\, and The Liberty Bid for EACYPAA for a day of food\, fun\, fellowship\, learning\, and growth. Join the discussion of how we fulfill our primary purpose and how we can work together to better carry the message to the still suffering alcoholic. \n\n\n\nGames will be played and there will be plenty of food!
URL:https://aad23.org/aa-event/bucks-aa-unity-event-24
LOCATION:St. Andrew’s Evangelical Lutheran Church\, 20 Dill Avenue\, Perkasie\, Pennsylvania\, 18944
ATTACH;FMTTYPE=image/jpeg:https://aad23.org/aa-tradition/uploads/Bucks-Unity-Event-24.jpg
END:VEVENT
BEGIN:VEVENT
DTSTART;TZID=America/New_York:20240608T100000
DTEND;TZID=America/New_York:20240608T143000
DTSTAMP:20260421T204121
CREATED:20240407T214842Z
LAST-MODIFIED:20240407T214843Z
UID:2007-1717840800-1717857000@aad23.org
SUMMARY:EPGSA Mini Assembly 2
DESCRIPTION:Mini Assembly I and Delegate’s Conference Report \n\n\n\n“Connecting with Love\, Unity and Service” \n\n\n\nRegistration begins at 9 AMWhy should an AA member attend a Mini Assembly’s?● Hear our Area 59 Delegate report back to us on what happened at the General Service Conference!● Have an opportunity to meet our trusted servants and ask questions● Get to know the people that will be eligible to stand for Area Officer positions at our next EPGSA election in November 2024● Learn about various aspects of General Service through informative presentations\, Archives and subcommittee displays● Enjoy complimentary lunch and camaraderie with other service-minded members of the fellowship
URL:https://aad23.org/aa-event/epgsa-mini-assembly-2
LOCATION:Milton First Presbyterian Church\, 47 Walnut Street\, Milton\, Pennsylvania\, 17847
ATTACH;FMTTYPE=image/jpeg:https://aad23.org/aa-tradition/uploads/Mini-Assembly-2.jpg
END:VEVENT
BEGIN:VEVENT
DTSTART;TZID=America/New_York:20240531T150000
DTEND;TZID=America/New_York:20240602T170000
DTSTAMP:20260421T204121
CREATED:20240407T221456Z
LAST-MODIFIED:20240407T221456Z
UID:2012-1717167600-1717347600@aad23.org
SUMMARY:PENNSCYPAA XXXV
DESCRIPTION:Pennsylvania State Conference of Young People in Alcoholics Anonymous \n\n\n\nHosted by Montgomery County Young People in A.A. \n\n\n\nPlease click this link for more information and to register:https://pennscypaa-xxxv-2024.glide.page/dl/3b1bc8 \n\n\n\nThe Pennsylvania State Conference of Young People in Alcoholics AnonymousIs Having its 35th conference at Eastern University.Come spend the weekend or the day on campus for a New College Experience \n\n\n\n\nRegister to commute or stay with us on campus\n\n\n\nDorm rooms for up to 2 people\n\n\n\nCommunity and Semi-Private bathroom/shower options\n\n\n\n4 Meals Included with your stay\n\n\n\nMeal plan options for commuters available soon\n\n\n\nMarathon meetings\, Workshops & Panels\n\n\n\nThemed dances\, Main Meeting HYPE and more
URL:https://aad23.org/aa-event/pennscypaa-xxxv
LOCATION:Eastern University\, 1300 Eagle Road\, St. Davids\, Pennsylvania\, 19087
ATTACH;FMTTYPE=image/jpeg:https://aad23.org/aa-tradition/uploads/pennscypaa-35-featured.jpg
END:VEVENT
BEGIN:VEVENT
DTSTART;TZID=America/New_York:20240511T100000
DTEND;TZID=America/New_York:20240511T143000
DTSTAMP:20260421T204121
CREATED:20240407T214424Z
LAST-MODIFIED:20240407T214426Z
UID:2001-1715421600-1715437800@aad23.org
SUMMARY:EPGSA Mini Assembly 1
DESCRIPTION:Mini Assembly I and Delegate’s Conference Report \n\n\n\n“Connecting with Love\, Unity and Service” \n\n\n\nRegistration begins at 9 AMWhy should an AA member attend a Mini Assembly’s?● Hear our Area 59 Delegate report back to us on what happened at the General Service Conference!● Have an opportunity to meet our trusted servants and ask questions● Get to know the people that will be eligible to stand for Area Officer positions at our next EPGSA election in November 2024● Learn about various aspects of General Service through informative presentations\, Archives and subcommittee displays● Enjoy complimentary lunch and camaraderie with other service-minded members of the fellowship
URL:https://aad23.org/aa-event/epgsa-mini-assembly-1
LOCATION:Good Shepherd Lutheran Church\, 132 E Valley Forge Rd\, King of Prussia\, Pennsylvania\, 19406
ATTACH;FMTTYPE=image/jpeg:https://aad23.org/aa-tradition/uploads/Mini-Assembly-1.jpg
END:VEVENT
BEGIN:VEVENT
DTSTART;TZID=America/New_York:20240504T110000
DTEND;TZID=America/New_York:20240504T150000
DTSTAMP:20260421T204121
CREATED:20240407T203950Z
LAST-MODIFIED:20240407T203951Z
UID:1998-1714820400-1714834800@aad23.org
SUMMARY:Ego Deflation at Depth Workshop
DESCRIPTION:Join us for a transformative Ego Deflation Workshop! Dive into a day of self-discovery\, accompanied by delicious food\, engaging fellowship\, and a Lunch and Learn session. Embrace the journey towards service in your sobriety. Don’t miss this opportunity to deflate the ego and elevate personal growth. See you there!
URL:https://aad23.org/aa-event/ego-deflation-at-depth-workshop
LOCATION:St. James Episcopal Church\, 330 S Bellevue Ave\, Langhorne\, PA\, 19047
ATTACH;FMTTYPE=image/jpeg:https://aad23.org/aa-tradition/uploads/D51-Ego-Workshop.jpg
END:VEVENT
END:VCALENDAR