BEGIN:VCALENDAR
VERSION:2.0
PRODID:-//District 23 AA - ECPv6.15.20//NONSGML v1.0//EN
CALSCALE:GREGORIAN
METHOD:PUBLISH
X-ORIGINAL-URL:https://aad23.org
X-WR-CALDESC:Events for District 23 AA
REFRESH-INTERVAL;VALUE=DURATION:PT1H
X-Robots-Tag:noindex
X-PUBLISHED-TTL:PT1H
BEGIN:VTIMEZONE
TZID:America/New_York
BEGIN:DAYLIGHT
TZOFFSETFROM:-0500
TZOFFSETTO:-0400
TZNAME:EDT
DTSTART:20250309T070000
END:DAYLIGHT
BEGIN:STANDARD
TZOFFSETFROM:-0400
TZOFFSETTO:-0500
TZNAME:EST
DTSTART:20251102T060000
END:STANDARD
BEGIN:DAYLIGHT
TZOFFSETFROM:-0500
TZOFFSETTO:-0400
TZNAME:EDT
DTSTART:20260308T070000
END:DAYLIGHT
BEGIN:STANDARD
TZOFFSETFROM:-0400
TZOFFSETTO:-0500
TZNAME:EST
DTSTART:20261101T060000
END:STANDARD
BEGIN:DAYLIGHT
TZOFFSETFROM:-0500
TZOFFSETTO:-0400
TZNAME:EDT
DTSTART:20270314T070000
END:DAYLIGHT
BEGIN:STANDARD
TZOFFSETFROM:-0400
TZOFFSETTO:-0500
TZNAME:EST
DTSTART:20271107T060000
END:STANDARD
END:VTIMEZONE
BEGIN:VEVENT
DTSTART;TZID=America/New_York:20260202T190000
DTEND;TZID=America/New_York:20260202T200000
DTSTAMP:20260421T100035
CREATED:20251126T210851Z
LAST-MODIFIED:20251202T174549Z
UID:2431-1770058800-1770062400@aad23.org
SUMMARY:GSR Forum The A.A. Group Pamphlet
DESCRIPTION:This is a series of GSR Forums taking place via Zoom on the first Monday of each month. Each month has a different topic see the flyer for details.P-16 The A.A. Group…Where It All Begins \n\n\n\nThis informational guide tells how a group works most effectively\, how a new group can be started\, and how each group can be linked to A.A. as a whole. \n\n\n\nGeneral Service Conference-approved.  \n\n\n\nZOOM ID: 810 1469 9195PASSCODE: 684838
URL:https://aad23.org/aa-event/gsr-forum-the-a-a-group-pamphlet
LOCATION:Pennsylvania
ATTACH;FMTTYPE=image/jpeg:https://aad23.org/aa-tradition/uploads/Area-59-GSR-Forum.jpg
END:VEVENT
BEGIN:VEVENT
DTSTART;TZID=America/New_York:20260228T190000
DTEND;TZID=America/New_York:20260228T220000
DTSTAMP:20260421T100035
CREATED:20260224T145650Z
LAST-MODIFIED:20260224T145650Z
UID:2523-1772305200-1772316000@aad23.org
SUMMARY:We Are Not a Glum Lot Comedy Show
DESCRIPTION:Doors open at 7pm Speaker at 7:30pm Show Starts at 8
URL:https://aad23.org/aa-event/we-are-not-a-glum-lot-comedy-show
LOCATION:Salem Church\, 186 E Court St\, Doylestown\, Pennsylvania\, 18901
ATTACH;FMTTYPE=image/jpeg:https://aad23.org/aa-tradition/uploads/Comedy-Night-2-2026.jpg
END:VEVENT
BEGIN:VEVENT
DTSTART;TZID=America/New_York:20260302T190000
DTEND;TZID=America/New_York:20260302T200000
DTSTAMP:20260421T100035
CREATED:20251202T193252Z
LAST-MODIFIED:20251202T193253Z
UID:2453-1772478000-1772481600@aad23.org
SUMMARY:Being a GSR during Conference Season
DESCRIPTION:This is a series of GSR Forums taking place via Zoom on the first Monday of each month. Each month has a different topic see the flyer for details. \n\n\n\nGSRs participate by representing their group’s voice at district meetings and area assemblies\, where they can share concerns\, ask questions\, propose ideas\, and vote on trusted servants and the use of funds. They also share information from the General Service Office (GSO) with their group and bring the group’s concerns to the wider service structure\, which ultimately influences decisions made at the General Service Conference.  \n\n\n\nZOOM ID: 810 1469 9195PASSCODE: 684838
URL:https://aad23.org/aa-event/conference-season-and-the-gsr
LOCATION:Pennsylvania
ATTACH;FMTTYPE=image/jpeg:https://aad23.org/aa-tradition/uploads/Area-59-GSR-Forum.jpg
END:VEVENT
BEGIN:VEVENT
DTSTART;TZID=America/New_York:20260306T120000
DTEND;TZID=America/New_York:20260308T120000
DTSTAMP:20260421T100035
CREATED:20260209T025431Z
LAST-MODIFIED:20260209T030502Z
UID:2493-1772798400-1772971200@aad23.org
SUMMARY:SEPIA Round Up 2026
DESCRIPTION:Theme The Power of We\n\n\n\n\n\nThe SEPIA Round Up an annual event is the biggest fundraiser for the South Eastern Pennsylvania Intergroup Association. S.E.P.I.A is an organization that serves the groups of the 5-county southeastern pa area making 12 step commitments available and educating the community about AA and alcoholism. \n\n\n\nMarathon Meetings\, A.A./Al-Anon Speakers\, Ice Cream Socials\, Long-Timers Panel\, Friday & Saturday Night Dances\, Beach Meetings\, Intergroup Rep Meeting\, Free Coffee \n\n\n\nREGISTER ON-LINE HERE\n\n\n\n\n\n\n\n\n\nHotel Reservation Information: \n\n\n\nThe Grand Hotel Cape May\, 1045 Beach Ave\, Cape May\, NJ 08204Reservations Line: 609-884-5611\, option 1Group Code: 716553
URL:https://aad23.org/aa-event/sepia-round-up-2026
LOCATION:Grand Hotel of Cape May\, 1045 Beach Avenue\, Cape May\, New Jersey\, 08204\, United States
ATTACH;FMTTYPE=image/jpeg:https://aad23.org/aa-tradition/uploads/sepia-59th-annual-roundup.jpg
END:VEVENT
BEGIN:VEVENT
DTSTART;TZID=America/New_York:20260308T090000
DTEND;TZID=America/New_York:20260308T160000
DTSTAMP:20260421T100035
CREATED:20260209T163414Z
LAST-MODIFIED:20260209T163415Z
UID:2505-1772960400-1772985600@aad23.org
SUMMARY:Quarterly Area 59 Meeting
DESCRIPTION:This is an opportunity for our District’s GSR’s and members to see the workings of our Area 59 Panel 75 and to meet the servants involved in Eastern Pa.Lunch is provided.
URL:https://aad23.org/aa-event/quarterly-area-59-meeting-3-26
LOCATION:Dingman Township Volunteer Fire Department\, 680 Log Tavern Rd\, Milford\, Pennsylvania\, 18337
ATTACH;FMTTYPE=image/jpeg:https://aad23.org/aa-tradition/uploads/Area-59-Quarterly.jpg
END:VEVENT
BEGIN:VEVENT
DTSTART;TZID=America/New_York:20260322T180000
DTEND;TZID=America/New_York:20260322T210000
DTSTAMP:20260421T100035
CREATED:20260202T023829Z
LAST-MODIFIED:20260202T023830Z
UID:2484-1774202400-1774213200@aad23.org
SUMMARY:Chalfont 54th Anniversary
DESCRIPTION:Come join us in celebration of our 54th anniversary.  \n\n\n\nFood Fellowship begin at 6:30 followed by 2 speaker meeting at 7:30
URL:https://aad23.org/aa-event/chalfont-54th-anniversary
LOCATION:Chalfont United Methodist Church\, 11 Meadowbrook Lane\, Chalfont\, Pennsylvania\, 18914\, United States
ATTACH;FMTTYPE=image/jpeg:https://aad23.org/aa-tradition/uploads/Chalfont-54-featured.jpg
END:VEVENT
BEGIN:VEVENT
DTSTART;TZID=America/New_York:20260326T120000
DTEND;TZID=America/New_York:20260329T120000
DTSTAMP:20260421T100035
CREATED:20260209T035258Z
LAST-MODIFIED:20260209T035258Z
UID:2498-1774526400-1774785600@aad23.org
SUMMARY:EACYPAA XXII
DESCRIPTION:This years Eastern Area Convention of Young People in A.A. is Hosted by NJYPAA \n\n\n\nEACYPAA was founded in 2002 when GLRCYPAA (Great Lakes Regional Convention of YPAA) grew to a larger regional convention with the primary purpose of providing a setting for an annual celebration of sobriety among young people in A.A.  \n\n\n\nPre register at https://www.zeffy.com/en-US/ticketing/2026-eacypaa-we-were-rebornBook your room at https://book.passkey.com/go/SH03AA6
URL:https://aad23.org/aa-event/eacypaa-xxii
LOCATION:Harrah’s Resort Atlantic City\, 777 Harrah's Blvd\, Atlantic City\, 08401
ATTACH;FMTTYPE=image/jpeg:https://aad23.org/aa-tradition/uploads/eacypaa-xxii.jpg
END:VEVENT
BEGIN:VEVENT
DTSTART;TZID=America/New_York:20260328T110000
DTEND;TZID=America/New_York:20260328T150000
DTSTAMP:20260421T100035
CREATED:20260210T144852Z
LAST-MODIFIED:20260210T144853Z
UID:2509-1774695600-1774710000@aad23.org
SUMMARY:Area 59 All Intergroup Day
DESCRIPTION:All Intergroup Day is a collaborative gathering where Intergroups\, Central Offices\, and Districts By Committee come together to share experience\, strengthen unity\, and celebrate the vital hand-in-hand work that connects the still-suffering alcoholic to our Fellowship.
URL:https://aad23.org/aa-event/area-59-all-intergroup-day
LOCATION:Easy Does It Inc.\, 1300 Hilltop Road\, Leesport\, Pennsylvania\, 19533
ATTACH;FMTTYPE=image/jpeg:https://aad23.org/aa-tradition/uploads/All-Intergroup-Day-2026.jpg
END:VEVENT
BEGIN:VEVENT
DTSTART;TZID=America/New_York:20260406T190000
DTEND;TZID=America/New_York:20260406T200000
DTSTAMP:20260421T100035
CREATED:20251202T194207Z
LAST-MODIFIED:20251202T194208Z
UID:2456-1775502000-1775505600@aad23.org
SUMMARY:Home Group and the General Service Conference
DESCRIPTION:This is a series of GSR Forums taking place via Zoom on the first Monday of each month. Each month has a different topic see the flyer for details. \n\n\n\nThe home group is the foundational level of A.A.\, where members find a sense of belonging and take on service responsibilities. It is the source of the “group conscience\,” and its voice is carried to other levels of service through a General Service Representative (GSR). The A.A. General Service Conference is the annual gathering where GSR’s\, via their elected delegates\, connect the group conscience to the broader service structure of Alcoholics Anonymous.  \n\n\n\nZOOM ID: 810 1469 9195PASSCODE: 684838
URL:https://aad23.org/aa-event/home-group-and-the-general-service-conference
LOCATION:Pennsylvania
ATTACH;FMTTYPE=image/jpeg:https://aad23.org/aa-tradition/uploads/Area-59-GSR-Forum.jpg
END:VEVENT
BEGIN:VEVENT
DTSTART;TZID=America/New_York:20260411T090000
DTEND;TZID=America/New_York:20260411T160000
DTSTAMP:20260421T100035
CREATED:20260210T150314Z
LAST-MODIFIED:20260210T150315Z
UID:2516-1775898000-1775923200@aad23.org
SUMMARY:Pre-Conference Sharing 2026
DESCRIPTION:All A.A. Members WelcomeGeneral Service Representatives (G.S.R.s) should attendVoice your opinion and the conscience of your group on matters that affect A.A. as a whole! \n\n\n\nHelp inform our Delegate how our area feels about agenda items to be voted on at the 76th General Service Conference! \n\n\n\nAfternoon – Reports & Sharing Session (All members welcome to participate) \n\n\n\nRegistration begins at 9 AMBreakfast and lunch will be provided!Morning – Committee Meetings (All members welcome to observe)
URL:https://aad23.org/aa-event/pre-conference-sharing-2026
LOCATION:Sacred Heart Catholic Church\, 2596 Cornwall Rd\, Cornwall\, Pennsylvania\, 17016
ATTACH;FMTTYPE=image/jpeg:https://aad23.org/aa-tradition/uploads/Pre-Conference-Sharing-Area-59.jpg
END:VEVENT
END:VCALENDAR